BEGIN:VCALENDAR
VERSION:2.0
PRODID:-//Race Equality Foundation - ECPv6.15.20//NONSGML v1.0//EN
CALSCALE:GREGORIAN
METHOD:PUBLISH
X-WR-CALNAME:Race Equality Foundation
X-ORIGINAL-URL:https://raceequalityfoundation.org.uk
X-WR-CALDESC:Events for Race Equality Foundation
REFRESH-INTERVAL;VALUE=DURATION:PT1H
X-Robots-Tag:noindex
X-PUBLISHED-TTL:PT1H
BEGIN:VTIMEZONE
TZID:Europe/London
BEGIN:DAYLIGHT
TZOFFSETFROM:+0000
TZOFFSETTO:+0100
TZNAME:BST
DTSTART:20240331T010000
END:DAYLIGHT
BEGIN:STANDARD
TZOFFSETFROM:+0100
TZOFFSETTO:+0000
TZNAME:GMT
DTSTART:20241027T010000
END:STANDARD
BEGIN:DAYLIGHT
TZOFFSETFROM:+0000
TZOFFSETTO:+0100
TZNAME:BST
DTSTART:20250330T010000
END:DAYLIGHT
BEGIN:STANDARD
TZOFFSETFROM:+0100
TZOFFSETTO:+0000
TZNAME:GMT
DTSTART:20251026T010000
END:STANDARD
BEGIN:DAYLIGHT
TZOFFSETFROM:+0000
TZOFFSETTO:+0100
TZNAME:BST
DTSTART:20260329T010000
END:DAYLIGHT
BEGIN:STANDARD
TZOFFSETFROM:+0100
TZOFFSETTO:+0000
TZNAME:GMT
DTSTART:20261025T010000
END:STANDARD
BEGIN:DAYLIGHT
TZOFFSETFROM:+0000
TZOFFSETTO:+0100
TZNAME:BST
DTSTART:20270328T010000
END:DAYLIGHT
BEGIN:STANDARD
TZOFFSETFROM:+0100
TZOFFSETTO:+0000
TZNAME:GMT
DTSTART:20271031T010000
END:STANDARD
END:VTIMEZONE
BEGIN:VEVENT
DTSTART;TZID=Europe/London:20250908T093000
DTEND;TZID=Europe/London:20250912T163000
DTSTAMP:20260420T184642
CREATED:20250604T143653Z
LAST-MODIFIED:20250604T143653Z
UID:10000068-1757323800-1757694600@raceequalityfoundation.org.uk
SUMMARY:Strengthening Families\, Strengthening Communities facilitator training London
DESCRIPTION:The 5-day Strengthening Families\, Strengthening Communities (SFSC) facilitator training provides delegates with the skills and understanding to deliver the SFSC parenting programme. Delegates will be provided with all necessary training materials\, including a session by session facilitator manual\, a copy of the parent materials and a USB drive containing forms\, worksheets and PowerPoint slides. \nLunch and refreshments are provided. \nThis training takes place in person at the Race Equality Foundation training venue.   \n  \nBOOK TRAINING
URL:https://raceequalityfoundation.org.uk/event/strengthening-families-strengthening-communities-facilitator-training-london-8/
LOCATION:Race Equality Foundation\, NW5 1LB
END:VEVENT
BEGIN:VEVENT
DTSTART;TZID=Europe/London:20250924T100000
DTEND;TZID=Europe/London:20250924T163000
DTSTAMP:20260420T184642
CREATED:20250630T151704Z
LAST-MODIFIED:20250903T132811Z
UID:10000070-1758708000-1758731400@raceequalityfoundation.org.uk
SUMMARY:Advance Reducing Parental Conflict (RPC) Training
DESCRIPTION:The Advanced Training course provides facilitators with the tools to deliver Strengthening Families\, Strengthening Communities (SFSC) to parents with a greater degree of focus on adult relationships and the impact of conflict with the co-parenting relationship on children. \nIt builds on the SFSC core training course and provides practitioners with the skills and understanding to meet the needs of parents experiencing conflict whether they are living together or living apart. \nAs well as providing a written a fully mapped supplementary manual which addresses parental conflict across the programme. It provides a range of additional video\, web based and written resources that facilitators can access to support their delivery. \nTraining covers: \n\nExplorations of strengths and vulnerabilities and strategies to cope with life’s ‘stresses’\nWhat conflict looks like for families ‘from silence to violence’\nCommunication: constructive versus destructive\nEmpathy\, the other perspective and managing anger\nCommunity support both now and in the future to avoid ‘crisis’\nHow children are harmed by different forms of conflict in the short and long term\nImportance of the parent/child relationship as a protective factor for children\n\nPractitioners need to have completed the five day core training before attending this one day course. \nDelegates will be provided with all necessary training materials. \nLunch and refreshments are provided. \nBOOK NOW
URL:https://raceequalityfoundation.org.uk/event/advance-reducing-parental-conflict-rpc-training/
LOCATION:Race Equality Foundation\, NW5 1LB
END:VEVENT
BEGIN:VEVENT
DTSTART;TZID=Europe/London:20251015T110000
DTEND;TZID=Europe/London:20251015T120000
DTSTAMP:20260420T184642
CREATED:20251014T134435Z
LAST-MODIFIED:20251014T134435Z
UID:10000079-1760526000-1760529600@raceequalityfoundation.org.uk
SUMMARY:Developing anti-racist Good Home Hubs: from access to outcomes
DESCRIPTION:Join us for the launch of our new research to uncover fresh insights into how home improvement services can become more accessible\, fair\, and effective for racially marginalised communities — and explore the practical steps we can all take to turn evidence into action. \nPeople from racially marginalised backgrounds are more likely to live in a poor-quality home and less likely to be able to access home improvement support. That is why the Centre for Ageing Better launched a research project with the Race Equality Foundation earlier this year to ensure that support for home improvement was made inclusive and anti-racist. \nGrounded in an extensive literature and the experiences of older racially marginalised communities across the country\, the research provides key insights and recommendations for meaningful change. \nIn this focused one-hour session\, we’ll walk you through the evidence and solutions uncovered in our research.  \n\n\n\n\nSpeakers\n\n\n\nMillie Brown\, Deputy Director of Homes\, Centre for Ageing Better\nNazia Azad\, Programme Manager\, Centre for Ageing Better\nJabeer Butt OBE\, Chief Executive\, Race Equality Foundation\nDr Jahan Foster Zabit\, Head of Research\, Race Equality Foundation\n\n\n\n\n\nThis webinar is designed for\n\n\n\nNational and local policymakers\nLocal implementers including commissioners\, care boards\, Local Government Association and Combined Authorities\nAcademics and researchers\n\n\n\n\n\n\n\n\n\n\n\n\nRegister now 
URL:https://raceequalityfoundation.org.uk/event/developing-anti-racist-good-home-hubs-from-access-to-outcomes/
ATTACH;FMTTYPE=image/jpeg:https://raceequalityfoundation.org.uk/wp-content/uploads/2025/10/Webinar-from-access-to-outcomes.jpg
END:VEVENT
BEGIN:VEVENT
DTSTART;TZID=Europe/London:20251104T110000
DTEND;TZID=Europe/London:20251104T130000
DTSTAMP:20260420T184642
CREATED:20251014T111427Z
LAST-MODIFIED:20251014T112056Z
UID:10000077-1762254000-1762261200@raceequalityfoundation.org.uk
SUMMARY:REMI Booster Support Session: Advancing implementation and addressing challenges
DESCRIPTION:The Race equity Maturity Index (REMI) is a self-assessment tool that allows organisations to track and improve their race equity maturity levels. This session will support organisations in their on-going REMI implementation journey.  It is especially targeted at organisations that are considering using the REMI or those that have decided and are in the early stages of implementation.  \nThe session will employ practical and reflective activities to facilitate collaborate solution building with like-minded health and care professionals. Attendees will also be given on-hand advice and guidance to enable them to effectively embed the REMI into existing organisational structures. \nThis session is essential for health and care professionals wanting to advance race equity in a holistic and embedded way. \nWhy attend? \n\nCollaborative discussion and solution building \nSharing of experiences with like-minded practitioners within health and care\nOn-hand advice and guidance to boost implementation\nAddress implementation challenges \n\nWhen will the session take place? \nSupport sessions will run on two separate dates:  \nNovember 4th (Tuesday) – 11:00 – 1:00  \nNovember 18th (Tuesday) – 11:00 – 1:00  \nRegister below: \nREMI Booster Support Session One (November 4th) \nREMI Booster Support Session  Two (November 18th) 
URL:https://raceequalityfoundation.org.uk/event/remi-booster-support-session-advancing-implementation-and-addressing-challenges/
ATTACH;FMTTYPE=image/png:https://raceequalityfoundation.org.uk/wp-content/uploads/2025/10/LARCH-Events-Banner.png
END:VEVENT
BEGIN:VEVENT
DTSTART;TZID=Europe/London:20251112T133000
DTEND;TZID=Europe/London:20251112T141500
DTSTAMP:20260420T184642
CREATED:20251107T170031Z
LAST-MODIFIED:20251107T170241Z
UID:10000081-1762954200-1762956900@raceequalityfoundation.org.uk
SUMMARY:Peer Researcher Information Session (SFSC:Safer Lives)
DESCRIPTION:An informal 45 minute information session on the SFSC: Safer Lives Peer Researcher roles at the Race Equality Foundation. \nThis is an opportunity to ask questions and get to know the team more! \nA reminder of the job role: \nJob title: Peer Researcher – Safer Lives Project (3 x vacancies) 2 x positions in London (full-time) & 1 x position in Manchester (full-time) \nContract: Fixed term until April 2028 (possible extension to September 2028) \nSalary: The salary for this role is £25\,207 per year which includes an extra allowance for being based in London which we know is a particularly expensive place to live and work. The salary for the role in Manchester is £22\,932 per year. \nLearn more about the project and role here. \nRegister here
URL:https://raceequalityfoundation.org.uk/event/peer-researcher-information-session-sfscsafer-lives/
END:VEVENT
BEGIN:VEVENT
DTSTART;TZID=Europe/London:20251118T110000
DTEND;TZID=Europe/London:20251118T130000
DTSTAMP:20260420T184642
CREATED:20251107T165218Z
LAST-MODIFIED:20251107T165218Z
UID:10000078-1763463600-1763470800@raceequalityfoundation.org.uk
SUMMARY:REMI Booster Support Session: Advancing implementation and addressing challenges
DESCRIPTION:The Race equity Maturity Index (REMI) is a self-assessment tool that allows organisations to track and improve their race equity maturity levels. This session will support organisations in their on-going REMI implementation journey.  It is especially targeted at organisations that are considering using the REMI or those that have decided and are in the early stages of implementation.  \nThe session will employ practical and reflective activities to facilitate collaborate solution building with like-minded health and care professionals. Attendees will also be given on-hand advice and guidance to enable them to effectively embed the REMI into existing organisational structures. \nThis session is essential for health and care professionals wanting to advance race equity in a holistic and embedded way. \nWhy attend? \n\nCollaborative discussion and solution building \nSharing of experiences with like-minded practitioners within health and care\nOn-hand advice and guidance to boost implementation\nAddress implementation challenges \n\nWhen will the session take place? \nSupport sessions will run on two separate dates:  \nNovember 4th (Tuesday) – 11:00 – 1:00  \nNovember 18th (Tuesday) – 11:00 – 1:00  \nRegister below: \nREMI Booster Support Session  Two (November 18th) 
URL:https://raceequalityfoundation.org.uk/event/remi-booster-support-session-advancing-implementation-and-addressing-challenges-2/
ATTACH;FMTTYPE=image/png:https://raceequalityfoundation.org.uk/wp-content/uploads/2025/10/LARCH-Events-Banner.png
END:VEVENT
BEGIN:VEVENT
DTSTART;TZID=Europe/London:20251120T100000
DTEND;TZID=Europe/London:20251120T163000
DTSTAMP:20260420T184642
CREATED:20250812T131818Z
LAST-MODIFIED:20250903T135532Z
UID:10000075-1763632800-1763656200@raceequalityfoundation.org.uk
SUMMARY:Advance Reducing Parental Conflict (RPC) Training
DESCRIPTION:The Advanced Training course provides facilitators with the tools to deliver Strengthening Families\, Strengthening Communities (SFSC) to parents with a greater degree of focus on adult relationships and the impact of conflict with the co-parenting relationship on children. \nIt builds on the SFSC core training course and provides practitioners with the skills and understanding to meet the needs of parents experiencing conflict whether they are living together or living apart. \nAs well as providing a written a fully mapped supplementary manual which addresses parental conflict across the programme. It provides a range of additional video\, web based and written resources that facilitators can access to support their delivery. \nTraining covers: \n\nExplorations of strengths and vulnerabilities and strategies to cope with life’s ‘stresses’\nWhat conflict looks like for families ‘from silence to violence’\nCommunication: constructive versus destructive\nEmpathy\, the other perspective and managing anger\nCommunity support both now and in the future to avoid ‘crisis’\nHow children are harmed by different forms of conflict in the short and long term\nImportance of the parent/child relationship as a protective factor for children\n\nPractitioners need to have completed the five day core training before attending this one day course. \nDelegates will be provided with all necessary training materials. \nLunch and refreshments are provided. \nBOOK NOW
URL:https://raceequalityfoundation.org.uk/event/advance-reducing-parental-conflict-rpc-training-2/
LOCATION:Race Equality Foundation\, NW5 1LB
END:VEVENT
BEGIN:VEVENT
DTSTART;TZID=Europe/London:20251208T093000
DTEND;TZID=Europe/London:20251212T163000
DTSTAMP:20260420T184642
CREATED:20250604T143752Z
LAST-MODIFIED:20250604T143752Z
UID:10000069-1765186200-1765557000@raceequalityfoundation.org.uk
SUMMARY:Strengthening Families\, Strengthening Communities facilitator training London
DESCRIPTION:The 5-day Strengthening Families\, Strengthening Communities (SFSC) facilitator training provides delegates with the skills and understanding to deliver the SFSC parenting programme. Delegates will be provided with all necessary training materials\, including a session by session facilitator manual\, a copy of the parent materials and a USB drive containing forms\, worksheets and PowerPoint slides. \nLunch and refreshments are provided. \nThis training takes place in person at the Race Equality Foundation training venue.   \n  \nBOOK TRAINING
URL:https://raceequalityfoundation.org.uk/event/strengthening-families-strengthening-communities-facilitator-training-london-9/
LOCATION:Race Equality Foundation\, NW5 1LB
END:VEVENT
BEGIN:VEVENT
DTSTART;TZID=Europe/London:20260119T093000
DTEND;TZID=Europe/London:20260123T163000
DTSTAMP:20260420T184642
CREATED:20251017T144411Z
LAST-MODIFIED:20260122T162400Z
UID:10000080-1768815000-1769185800@raceequalityfoundation.org.uk
SUMMARY:Strengthening Families\, Strengthening Communities facilitator training London
DESCRIPTION:The 5-day Strengthening Families\, Strengthening Communities (SFSC) facilitator training provides delegates with the skills and understanding to deliver the SFSC parenting programme. Delegates will be provided with all necessary training materials\, including a session by session facilitator manual\, a copy of the parent materials and a USB drive containing forms\, worksheets and PowerPoint slides. \nLunch and refreshments are provided. \nThis training takes place in person at the Race Equality Foundation training venue.   \n  \nBOOK TRAINING
URL:https://raceequalityfoundation.org.uk/event/strengthening-families-strengthening-communities-facilitator-training-london-10/
LOCATION:Race Equality Foundation\, NW5 1LB
END:VEVENT
BEGIN:VEVENT
DTSTART;TZID=Europe/London:20260323T093000
DTEND;TZID=Europe/London:20260327T163000
DTSTAMP:20260420T184642
CREATED:20251120T161411Z
LAST-MODIFIED:20260129T110407Z
UID:10000082-1774258200-1774629000@raceequalityfoundation.org.uk
SUMMARY:Strengthening Families\, Strengthening Communities facilitator training London
DESCRIPTION:The 5-day Strengthening Families\, Strengthening Communities (SFSC) facilitator training provides delegates with the skills and understanding to deliver the SFSC parenting programme. Delegates will be provided with all necessary training materials\, including a session by session facilitator manual\, a copy of the parent materials and access to the Strengthening Practice facilitator site containing forms\, worksheets and PowerPoint slides. \nLunch and refreshments are provided. \nThis training takes place in person at the Race Equality Foundation training venue.   \n\n\nBOOK TRAINING
URL:https://raceequalityfoundation.org.uk/event/strengthening-families-strengthening-communities-facilitator-training-london-11/
END:VEVENT
BEGIN:VEVENT
DTSTART;TZID=Europe/London:20260518T093000
DTEND;TZID=Europe/London:20260522T163000
DTSTAMP:20260420T184642
CREATED:20260203T141426Z
LAST-MODIFIED:20260415T082322Z
UID:10000083-1779096600-1779467400@raceequalityfoundation.org.uk
SUMMARY:Strengthening Families\, Strengthening Communities facilitator training London
DESCRIPTION:The 5-day Strengthening Families\, Strengthening Communities (SFSC) facilitator training provides delegates with the skills and understanding to deliver the SFSC parenting programme. Delegates will be provided with all necessary training materials\, including a session by session facilitator manual\, a copy of the parent materials and access to the Strengthening Practice facilitator site containing forms\, worksheets and PowerPoint slides. \nLunch and refreshments are provided. \nThis training takes place in person at the Race Equality Foundation training venue.   \n\n\nBOOK TRAINING
URL:https://raceequalityfoundation.org.uk/event/strengthening-families-strengthening-communities-facilitator-training-london-12/
END:VEVENT
BEGIN:VEVENT
DTSTART;TZID=Europe/London:20260601T100000
DTEND;TZID=Europe/London:20260601T163000
DTSTAMP:20260420T184642
CREATED:20260319T112731Z
LAST-MODIFIED:20260415T082259Z
UID:10000085-1780308000-1780331400@raceequalityfoundation.org.uk
SUMMARY:Advanced Reducing Parental Conflict (RPC) Training
DESCRIPTION:The Advanced Training course in Reducing Parental Conflict provides facilitators with the tools to deliver Strengthening Families\, Strengthening Communities (SFSC) to parents with a greater degree of focus on adult relationships and the impact of conflict with the co-parenting relationship on children. \nIt builds on the SFSC core training course and provides practitioners with the skills and understanding to meet the needs of parents experiencing conflict whether they are living together or living apart. \nDelegates will be provided with all necessary training materials\, including a written and fully mapped supplementary manual which addresses parental conflict across the programme. In addition\, it provides a range of additional video\, web-based\, and written resources that facilitators can access to support their delivery. \nTraining covers: \n\nExplorations of strengths and vulnerabilities and strategies to cope with life’s ‘stresses’\nWhat conflict looks like for families ‘from silence to violence’\nCommunication: constructive versus destructive\nEmpathy\, the other perspective and managing anger\nCommunity support both now and in the future to avoid ‘crisis’\nHow children are harmed by different forms of conflict in the short and long term\nImportance of the parent/child relationship as a protective factor for children\n\nPlease note: Practitioners need to have completed the five day core training before attending this one day course.  \nLunch and refreshments are provided. \nBook Training
URL:https://raceequalityfoundation.org.uk/event/advance-reducing-parental-conflict-rpc-training-3/
LOCATION:Race Equality Foundation\, NW5 1LB
END:VEVENT
BEGIN:VEVENT
DTSTART;TZID=Europe/London:20260706T093000
DTEND;TZID=Europe/London:20260710T163000
DTSTAMP:20260420T184642
CREATED:20260203T141516Z
LAST-MODIFIED:20260203T151549Z
UID:10000084-1783330200-1783701000@raceequalityfoundation.org.uk
SUMMARY:Strengthening Families\, Strengthening Communities facilitator training London
DESCRIPTION:The 5-day Strengthening Families\, Strengthening Communities (SFSC) facilitator training provides delegates with the skills and understanding to deliver the SFSC parenting programme. Delegates will be provided with all necessary training materials\, including a session by session facilitator manual\, a copy of the parent materials and access to the Strengthening Practice facilitator site containing forms\, worksheets and PowerPoint slides. \nLunch and refreshments are provided. \nThis training takes place in person at the Race Equality Foundation training venue.   \n\n\nBOOK TRAINING
URL:https://raceequalityfoundation.org.uk/event/strengthening-families-strengthening-communities-facilitator-training-london-13/
END:VEVENT
BEGIN:VEVENT
DTSTART;TZID=Europe/London:20260713T100000
DTEND;TZID=Europe/London:20260713T163000
DTSTAMP:20260420T184642
CREATED:20260319T112831Z
LAST-MODIFIED:20260319T115653Z
UID:10000086-1783936800-1783960200@raceequalityfoundation.org.uk
SUMMARY:Advanced Reducing Parental Conflict (RPC) Training
DESCRIPTION:The Advanced Training course in Reducing Parental Conflict provides facilitators with the tools to deliver Strengthening Families\, Strengthening Communities (SFSC) to parents with a greater degree of focus on adult relationships and the impact of conflict with the co-parenting relationship on children. \nIt builds on the SFSC core training course and provides practitioners with the skills and understanding to meet the needs of parents experiencing conflict whether they are living together or living apart. \nDelegates will be provided with all necessary training materials\, including a written and fully mapped supplementary manual which addresses parental conflict across the programme. In addition\, it provides a range of additional video\, web-based\, and written resources that facilitators can access to support their delivery. \nTraining covers: \n\nExplorations of strengths and vulnerabilities and strategies to cope with life’s ‘stresses’\nWhat conflict looks like for families ‘from silence to violence’\nCommunication: constructive versus destructive\nEmpathy\, the other perspective and managing anger\nCommunity support both now and in the future to avoid ‘crisis’\nHow children are harmed by different forms of conflict in the short and long term\nImportance of the parent/child relationship as a protective factor for children\n\nPlease note: Practitioners need to have completed the five day core training before attending this one day course.  \nLunch and refreshments are provided. \nBook Training
URL:https://raceequalityfoundation.org.uk/event/advance-reducing-parental-conflict-rpc-training-4/
LOCATION:Race Equality Foundation\, NW5 1LB
END:VEVENT
END:VCALENDAR